

BEGIN:VCALENDAR
VERSION:2.0
PRODID:-//Sylvie MONPOINT - ECPv6.3.3.1//NONSGML v1.0//EN
CALSCALE:GREGORIAN
METHOD:PUBLISH
X-ORIGINAL-URL:https://sylvie-monpoint.fr
X-WR-CALDESC:évènements pour Sylvie MONPOINT
REFRESH-INTERVAL;VALUE=DURATION:PT1H
X-Robots-Tag:noindex
X-PUBLISHED-TTL:PT1H
BEGIN:VTIMEZONE
TZID:Europe/Paris
BEGIN:DAYLIGHT
TZOFFSETFROM:+0100
TZOFFSETTO:+0200
TZNAME:CEST
DTSTART:20260329T010000
END:DAYLIGHT
BEGIN:STANDARD
TZOFFSETFROM:+0200
TZOFFSETTO:+0100
TZNAME:CET
DTSTART:20261025T010000
END:STANDARD
END:VTIMEZONE
BEGIN:VEVENT
DTSTART;TZID=Europe/Paris:20260501T100000
DTEND;TZID=Europe/Paris:20260501T173000
DTSTAMP:20260424T164104
CREATED:20260421T155252Z
LAST-MODIFIED:20260421T170820Z
UID:1568-1777629600-1777656600@sylvie-monpoint.fr
SUMMARY:Journée du Livre et de la spiritualité : Huperíôn 2026
DESCRIPTION:📚 6e Journée du Livre et de la Spiritualité Huperíôn 📚 \n🌿 À l’Abbaye N.-D. de Fontaine-Guérard\n🕊️ Thème : Solitude en chemin spirituel \nJ’aurai le plaisir d’assurer la présidence de ce salon et la joie d’animer les entretiens avec nos deux invitées d’honneur : \n🌟 Marie de Hennezel pour son Dictionnaire amoureux de la solitude\n🌟 Cécile Mavet pour son Expérience spirituelle de solitude \n📖 Je serai également heureuse de vous présenter mes ouvrages\, dont :\n« Le délicieux mystère des fleurs » (paru en avril 2026) 🌸 \n🔎 Découvrez le programme complet des conférences :\n👉 https://www.lazare-capucine.com/salon-du-livre-huperion-2026/ \n💫 Un rendez-vous riche en réflexions\, en rencontres et en profondeur… \n📚 Hâte de vous y retrouver nombreux !
URL:https://sylvie-monpoint.fr/evenement/journee-du-livre-et-de-la-spiritualite-huperion-2026/
LOCATION:Abbaye de Fontaine Guérard\, CD 714\,\, RADEPONT\, 27380\, France
CATEGORIES:Atelier,Conférence,Dédicace,Rencontre
ATTACH;FMTTYPE=image/jpeg:https://sylvie-monpoint.fr/wp-content/uploads/2026/04/Huperion-2026-affiche-2026-724x1024-1.jpg
END:VEVENT
END:VCALENDAR